BEGIN:VCALENDAR
VERSION:2.0
PRODID:-//BELLAVISTA SOCIAL CLUB - ECPv5.16.3.1//NONSGML v1.0//EN
CALSCALE:GREGORIAN
METHOD:PUBLISH
X-ORIGINAL-URL:https://www.bellavistasocialclub.es
X-WR-CALDESC:Eventos para BELLAVISTA SOCIAL CLUB
REFRESH-INTERVAL;VALUE=DURATION:PT1H
X-Robots-Tag:noindex
X-PUBLISHED-TTL:PT1H
BEGIN:VTIMEZONE
TZID:Europe/Madrid
BEGIN:DAYLIGHT
TZOFFSETFROM:+0100
TZOFFSETTO:+0200
TZNAME:CEST
DTSTART:20180325T010000
END:DAYLIGHT
BEGIN:STANDARD
TZOFFSETFROM:+0200
TZOFFSETTO:+0100
TZNAME:CET
DTSTART:20181028T010000
END:STANDARD
BEGIN:DAYLIGHT
TZOFFSETFROM:+0100
TZOFFSETTO:+0200
TZNAME:CEST
DTSTART:20190331T010000
END:DAYLIGHT
BEGIN:STANDARD
TZOFFSETFROM:+0200
TZOFFSETTO:+0100
TZNAME:CET
DTSTART:20191027T010000
END:STANDARD
END:VTIMEZONE
BEGIN:VEVENT
DTSTART;TZID=Europe/Madrid:20190707T210000
DTEND;TZID=Europe/Madrid:20190801T190000
DTSTAMP:20260420T125230
CREATED:20190628T101209Z
LAST-MODIFIED:20190628T101209Z
UID:297-1562533200-1564686000@www.bellavistasocialclub.es
SUMMARY:Exposición Fofografica Cristina Ramirez
DESCRIPTION:En Bellavista Social Club\, exposición fotográfica “STREET PHOTOGRAFHY/ARTE XAVEGA  de Cristina Ramirez Fernandez
URL:https://www.bellavistasocialclub.es/inicio/exposicion-fofografica-cristina-ramirez/
LOCATION:Bellavista Social Club\, Calle Herrera\, Centros Comerciales Local 17 Bellavista\, Aljaraque\, Huelva\, 21122\, España
CATEGORIES:Fotografía
ATTACH;FMTTYPE=image/jpeg:https://www.bellavistasocialclub.es/wp-content/uploads/2019/06/Fotografa-Cristina-Ramirez-en-BSC.jpeg
ORGANIZER;CN="Bellavista%20Social%20Club":MAILTO:bellavistacs2017@gmail.com
END:VEVENT
BEGIN:VEVENT
DTSTART;TZID=Europe/Madrid:20190705T203000
DTEND;TZID=Europe/Madrid:20190705T213000
DTSTAMP:20260420T125230
CREATED:20190614T171420Z
LAST-MODIFIED:20190921T101713Z
UID:173-1562358600-1562362200@www.bellavistasocialclub.es
SUMMARY:Libro Cristobal Ponce
DESCRIPTION:En Bellavista Social Club\, presentación del libro de Cristobal Ponce de León ” PIEL DE MANZANA“
URL:https://www.bellavistasocialclub.es/inicio/libro-cristobal-ponce/
LOCATION:Bellavista Social Club\, Calle Herrera\, Centros Comerciales Local 17 Bellavista\, Aljaraque\, Huelva\, 21122\, España
CATEGORIES:Presentación Libros
ATTACH;FMTTYPE=image/jpeg:https://www.bellavistasocialclub.es/wp-content/uploads/2019/06/Libro-Piel-de-Manzana-en-BSC.jpg
ORGANIZER;CN="Bellavista%20Social%20Club":MAILTO:bellavistacs2017@gmail.com
END:VEVENT
BEGIN:VEVENT
DTSTART;TZID=Europe/Madrid:20190705T110000
DTEND;TZID=Europe/Madrid:20190706T010000
DTSTAMP:20260420T125230
CREATED:20190628T101905Z
LAST-MODIFIED:20190628T102044Z
UID:300-1562324400-1562374800@www.bellavistasocialclub.es
SUMMARY:Ni Chicha Ni Limoná
DESCRIPTION:El grupo Onubense  “Ni Chicha Ni Limoná”  regresa a nuestro local con sus nuevas letras\, como ellos llaman a su estilo\, TROCHO POP DESORDENADO.
URL:https://www.bellavistasocialclub.es/inicio/ni-chicha-ni-limona-2/
LOCATION:Bellavista Social Club\, Calle Herrera\, Centros Comerciales Local 17 Bellavista\, Aljaraque\, Huelva\, 21122\, España
CATEGORIES:Otros
ATTACH;FMTTYPE=image/jpeg:https://www.bellavistasocialclub.es/wp-content/uploads/2019/06/ni-chicha-ni-limona-en-BSC.jpeg
ORGANIZER;CN="Bellavista%20Social%20Club":MAILTO:bellavistacs2017@gmail.com
END:VEVENT
BEGIN:VEVENT
DTSTART;TZID=Europe/Madrid:20190626T190000
DTEND;TZID=Europe/Madrid:20190626T203000
DTSTAMP:20260420T125230
CREATED:20190616T114637Z
LAST-MODIFIED:20190616T114637Z
UID:264-1561575600-1561581000@www.bellavistasocialclub.es
SUMMARY:Tertulia Literaria
DESCRIPTION:Tertulia Literaria en BELLAVISTA SOCIAL CLUB
URL:https://www.bellavistasocialclub.es/inicio/tertulia-literaria/
LOCATION:Bellavista Social Club\, Calle Herrera\, Centros Comerciales Local 17 Bellavista\, Aljaraque\, Huelva\, 21122\, España
CATEGORIES:Tertulia Literaria
ORGANIZER;CN="Bellavista%20Social%20Club":MAILTO:bellavistacs2017@gmail.com
END:VEVENT
BEGIN:VEVENT
DTSTART;TZID=Europe/Madrid:20190625T183000
DTEND;TZID=Europe/Madrid:20190625T193000
DTSTAMP:20260420T125230
CREATED:20190616T105852Z
LAST-MODIFIED:20190616T110936Z
UID:254-1561487400-1561491000@www.bellavistasocialclub.es
SUMMARY:Clases de Guitarra
DESCRIPTION:Todos los martes a partir de las 18.30\, Clases de Guitarra en Bellavista Social Club
URL:https://www.bellavistasocialclub.es/inicio/clases-de-guitarra-2/
LOCATION:Bellavista Social Club\, Calle Herrera\, Centros Comerciales Local 17 Bellavista\, Aljaraque\, Huelva\, 21122\, España
CATEGORIES:Clases de Guitarra
ORGANIZER;CN="Bellavista%20Social%20Club":MAILTO:bellavistacs2017@gmail.com
END:VEVENT
BEGIN:VEVENT
DTSTART;TZID=Europe/Madrid:20190618T183000
DTEND;TZID=Europe/Madrid:20190618T193000
DTSTAMP:20260420T125230
CREATED:20190616T105759Z
LAST-MODIFIED:20190616T105759Z
UID:252-1560882600-1560886200@www.bellavistasocialclub.es
SUMMARY:Clases de Guitarra
DESCRIPTION:Todos los martes a partir de las 18.30\, Clases de Guitarra en Bellavista Social Club
URL:https://www.bellavistasocialclub.es/inicio/clases-de-guitarra/
LOCATION:Bellavista Social Club\, Calle Herrera\, Centros Comerciales Local 17 Bellavista\, Aljaraque\, Huelva\, 21122\, España
CATEGORIES:Clases de Guitarra
ORGANIZER;CN="Bellavista%20Social%20Club":MAILTO:bellavistacs2017@gmail.com
END:VEVENT
BEGIN:VEVENT
DTSTART;TZID=Europe/Madrid:20190618T120000
DTEND;TZID=Europe/Madrid:20190618T140000
DTSTAMP:20260420T125230
CREATED:20190616T105430Z
LAST-MODIFIED:20190616T105430Z
UID:250-1560859200-1560866400@www.bellavistasocialclub.es
SUMMARY:Jardín de Epicuro
DESCRIPTION:Con el nombre de “Jardín de Epicuro” un grupo de socios comparten sobre un libro determinado previamente leído
URL:https://www.bellavistasocialclub.es/inicio/jardin-de-epicuro/
LOCATION:Bellavista Social Club\, Calle Herrera\, Centros Comerciales Local 17 Bellavista\, Aljaraque\, Huelva\, 21122\, España
CATEGORIES:Jardín de Epicuro
ORGANIZER;CN="Bellavista%20Social%20Club":MAILTO:bellavistacs2017@gmail.com
END:VEVENT
BEGIN:VEVENT
DTSTART;TZID=Europe/Madrid:20190617T183000
DTEND;TZID=Europe/Madrid:20190617T200000
DTSTAMP:20260420T125230
CREATED:20190611T113636Z
LAST-MODIFIED:20190611T113636Z
UID:12-1560796200-1560801600@www.bellavistasocialclub.es
SUMMARY:Baile de Salón
DESCRIPTION:Todos los Lunes 90 minutos de baile\, salsa\, latinos y standar\, todo ello con una excelente profesional como profesora.
URL:https://www.bellavistasocialclub.es/inicio/baile-de-salon/
LOCATION:Bellavista Social Club\, Calle Herrera\, Centros Comerciales Local 17 Bellavista\, Aljaraque\, Huelva\, 21122\, España
CATEGORIES:Baile
ATTACH;FMTTYPE=image/jpeg:https://www.bellavistasocialclub.es/wp-content/uploads/2019/06/Baile-de-Salon.jpg
ORGANIZER;CN="Bellavista%20Social%20Club":MAILTO:bellavistacs2017@gmail.com
END:VEVENT
BEGIN:VEVENT
DTSTART;TZID=Europe/Madrid:20190614T203000
DTEND;TZID=Europe/Madrid:20190614T203000
DTSTAMP:20260420T125230
CREATED:20190611T160757Z
LAST-MODIFIED:20190921T101748Z
UID:41-1560544200-1560544200@www.bellavistasocialclub.es
SUMMARY:Libro de Mario Marín
DESCRIPTION:El escritor Mario Marin nos presenta en la sede de Bellavista Social Club\,  su Libro\, “Mañana es el día siguiente“.
URL:https://www.bellavistasocialclub.es/inicio/libro-de-mario-marin/
LOCATION:Bellavista Social Club\, Calle Herrera\, Centros Comerciales Local 17 Bellavista\, Aljaraque\, Huelva\, 21122\, España
CATEGORIES:Presentación Libros
ATTACH;FMTTYPE=image/jpeg:https://www.bellavistasocialclub.es/wp-content/uploads/2019/06/WhatsApp-Image-2019-06-10-at-09.43.05.jpeg
ORGANIZER;CN="Bellavista%20Social%20Club":MAILTO:bellavistacs2017@gmail.com
END:VEVENT
BEGIN:VEVENT
DTSTART;TZID=Europe/Madrid:20190613T203000
DTEND;TZID=Europe/Madrid:20190613T213000
DTSTAMP:20260420T125230
CREATED:20190611T155359Z
LAST-MODIFIED:20190611T155440Z
UID:38-1560457800-1560461400@www.bellavistasocialclub.es
SUMMARY:Asamblea General Ordinaria
DESCRIPTION:Este próximo jueves el el local de nuestro Asociación se celebra la Asamblea General Ordinaria que recogen nuestros estatutos. En el orden del día se recogen los temas a tratar. \nDocto Asamblea general \n 
URL:https://www.bellavistasocialclub.es/inicio/asamblea-general-ordinaria/
LOCATION:Bellavista Social Club\, Calle Herrera\, Centros Comerciales Local 17 Bellavista\, Aljaraque\, Huelva\, 21122\, España
ORGANIZER;CN="Bellavista%20Social%20Club":MAILTO:bellavistacs2017@gmail.com
END:VEVENT
BEGIN:VEVENT
DTSTART;TZID=Europe/Madrid:20190607T110000
DTEND;TZID=Europe/Madrid:20190607T110000
DTSTAMP:20260420T125230
CREATED:20190611T131714Z
LAST-MODIFIED:20190611T131714Z
UID:27-1559905200-1559905200@www.bellavistasocialclub.es
SUMMARY:Conferencia Musicada Raul Rodriguez
DESCRIPTION:Raul Rodriguez nos presenta “ANTROPOMUSICA DE IDA Y VUELTA” \, conferencia musicada donde descubriremos no solo el instrumento musical\, también la historia detrás de cada composición.
URL:https://www.bellavistasocialclub.es/inicio/conferencia-musicada-raul-rodriguez/
LOCATION:Bellavista Social Club\, Calle Herrera\, Centros Comerciales Local 17 Bellavista\, Aljaraque\, Huelva\, 21122\, España
CATEGORIES:Fusión
ATTACH;FMTTYPE=image/jpeg:https://www.bellavistasocialclub.es/wp-content/uploads/2019/06/raulrodriguez-en-concierto.jpeg
ORGANIZER;CN="Bellavista%20Social%20Club":MAILTO:bellavistacs2017@gmail.com
END:VEVENT
BEGIN:VEVENT
DTSTART;TZID=Europe/Madrid:20190531T200000
DTEND;TZID=Europe/Madrid:20190630T200000
DTSTAMP:20260420T125230
CREATED:20190611T162304Z
LAST-MODIFIED:20190829T113755Z
UID:46-1559332800-1561924800@www.bellavistasocialclub.es
SUMMARY:Pintura Antonio Suarez
DESCRIPTION:El pintor Onubense Antonio Suarez Mato expone en Bellavista Social Club su colección de pinturas “LUCES SOBRE NEGRO“
URL:https://www.bellavistasocialclub.es/inicio/pintura-antonio-suarez/
LOCATION:Bellavista Social Club\, Calle Herrera\, Centros Comerciales Local 17 Bellavista\, Aljaraque\, Huelva\, 21122\, España
CATEGORIES:Pintura
ATTACH;FMTTYPE=image/jpeg:https://www.bellavistasocialclub.es/wp-content/uploads/2019/06/pinturas-antonio-suarez-mato.jpeg
ORGANIZER;CN="Bellavista%20Social%20Club":MAILTO:bellavistacs2017@gmail.com
END:VEVENT
BEGIN:VEVENT
DTSTART;TZID=Europe/Madrid:20190531T080000
DTEND;TZID=Europe/Madrid:20190531T170000
DTSTAMP:20260420T125230
CREATED:20190611T181827Z
LAST-MODIFIED:20190612T214717Z
UID:77-1559289600-1559322000@www.bellavistasocialclub.es
SUMMARY:Concierto de Generación al Limite
DESCRIPTION:Este grupo de Rock onubense nos presenta en nuestra sede un concierto dedicado al Rock\, titulado TRIBUTO AL ROCK EN ESPAÑOL.
URL:https://www.bellavistasocialclub.es/inicio/concierto-de-generacion-al-limite/
LOCATION:Bellavista Social Club\, Calle Herrera\, Centros Comerciales Local 17 Bellavista\, Aljaraque\, Huelva\, 21122\, España
CATEGORIES:Rock
ATTACH;FMTTYPE=image/jpeg:https://www.bellavistasocialclub.es/wp-content/uploads/2019/06/concierto-generacion-al-limite.jpeg
ORGANIZER;CN="Bellavista%20Social%20Club":MAILTO:bellavistacs2017@gmail.com
END:VEVENT
BEGIN:VEVENT
DTSTART;TZID=Europe/Madrid:20190524T203000
DTEND;TZID=Europe/Madrid:20190524T213000
DTSTAMP:20260420T125230
CREATED:20190612T114822Z
LAST-MODIFIED:20190921T101821Z
UID:100-1558729800-1558733400@www.bellavistasocialclub.es
SUMMARY:Libro de Jesús Cervetto
DESCRIPTION:El escritor onubense nos trae su ultima obra\, el libro de Poesías\, MULTIPOLAR
URL:https://www.bellavistasocialclub.es/inicio/libro-de-jesus-cervetto/
LOCATION:Bellavista Social Club\, Calle Herrera\, Centros Comerciales Local 17 Bellavista\, Aljaraque\, Huelva\, 21122\, España
CATEGORIES:Presentación Libros
ATTACH;FMTTYPE=image/jpeg:https://www.bellavistasocialclub.es/wp-content/uploads/2019/06/libro-poesias-de-jesus-cervetto.jpeg
ORGANIZER;CN="Bellavista%20Social%20Club":MAILTO:bellavistacs2017@gmail.com
END:VEVENT
BEGIN:VEVENT
DTSTART;TZID=Europe/Madrid:20190521T180000
DTEND;TZID=Europe/Madrid:20190521T190000
DTSTAMP:20260420T125230
CREATED:20190612T174048Z
LAST-MODIFIED:20190614T171702Z
UID:117-1558461600-1558465200@www.bellavistasocialclub.es
SUMMARY:Charla "Hablamos de Cáncer de mama"
DESCRIPTION:La Concejalía de Políticas Sociales del Ayuntamiento de Aljaraque colabora y organiza esta charla “HABLAMOS DE CÁNCER DE MAMA“
URL:https://www.bellavistasocialclub.es/inicio/charla-hablamos-de-cancer-de-mama/
LOCATION:Bellavista Social Club\, Calle Herrera\, Centros Comerciales Local 17 Bellavista\, Aljaraque\, Huelva\, 21122\, España
CATEGORIES:Salud
ATTACH;FMTTYPE=image/jpeg:https://www.bellavistasocialclub.es/wp-content/uploads/2019/06/hablamos-de-cancer-de-mama.jpeg
END:VEVENT
BEGIN:VEVENT
DTSTART;TZID=Europe/Madrid:20190517T200000
DTEND;TZID=Europe/Madrid:20190517T213000
DTSTAMP:20260420T125230
CREATED:20190612T105338Z
LAST-MODIFIED:20190614T105627Z
UID:98-1558123200-1558128600@www.bellavistasocialclub.es
SUMMARY:Historia del Jazz VI
DESCRIPTION:Para finalizar este ciclo de “Historia del Jazz”  Israel \, junto a grandes músico como: Antonio Olivo al Saxo\, Pablo Baez al Bajo\, Juanki  la Gutarra y Martin Drums \, nos trae un Concierto Bebop\, fusión 
URL:https://www.bellavistasocialclub.es/inicio/historia-del-jazz-vi/
LOCATION:Bellavista Social Club\, Calle Herrera\, Centros Comerciales Local 17 Bellavista\, Aljaraque\, Huelva\, 21122\, España
CATEGORIES:Rock
ATTACH;FMTTYPE=image/jpeg:https://www.bellavistasocialclub.es/wp-content/uploads/2019/06/concierto-jazz-en-bellavista-social-club.jpeg
ORGANIZER;CN="Bellavista%20Social%20Club":MAILTO:bellavistacs2017@gmail.com
END:VEVENT
BEGIN:VEVENT
DTSTART;TZID=Europe/Madrid:20190510T200000
DTEND;TZID=Europe/Madrid:20190510T213000
DTSTAMP:20260420T125230
CREATED:20190612T104846Z
LAST-MODIFIED:20190612T104846Z
UID:96-1557518400-1557523800@www.bellavistasocialclub.es
SUMMARY:Historia del Jazz V
DESCRIPTION:Nuevo vídeo titulado “La Historia del Jazz. RIESGO“. con posterioridad sera comentado por Israel Lino
URL:https://www.bellavistasocialclub.es/inicio/historia-del-jazz-v/
LOCATION:Bellavista Social Club\, Calle Herrera\, Centros Comerciales Local 17 Bellavista\, Aljaraque\, Huelva\, 21122\, España
CATEGORIES:Jazz- Soul y Blues
ATTACH;FMTTYPE=image/jpeg:https://www.bellavistasocialclub.es/wp-content/uploads/2019/06/historia-del-jazz-en-bellavista-socail-club.jpg
ORGANIZER;CN="Bellavista%20Social%20Club":MAILTO:bellavistacs2017@gmail.com
END:VEVENT
BEGIN:VEVENT
DTSTART;TZID=Europe/Madrid:20190502T200000
DTEND;TZID=Europe/Madrid:20190529T223000
DTSTAMP:20260420T125230
CREATED:20190613T091243Z
LAST-MODIFIED:20190829T113605Z
UID:129-1556827200-1559169000@www.bellavistasocialclub.es
SUMMARY:Óleos Jose Jimenez
DESCRIPTION:Exposición de Oleos del pintor JOSE JIMENEZ QUINTERO en la Asociación Cultural BELLAVISTA SOCIAL CLUB
URL:https://www.bellavistasocialclub.es/inicio/oleos-jose-jimenez/
LOCATION:Bellavista Social Club\, Calle Herrera\, Centros Comerciales Local 17 Bellavista\, Aljaraque\, Huelva\, 21122\, España
CATEGORIES:Pintura
ATTACH;FMTTYPE=image/jpeg:https://www.bellavistasocialclub.es/wp-content/uploads/2019/06/oleos-de-jose-jimenez-en-bsc.jpg
ORGANIZER;CN="Bellavista%20Social%20Club":MAILTO:bellavistacs2017@gmail.com
END:VEVENT
BEGIN:VEVENT
DTSTART;TZID=Europe/Madrid:20190426T200000
DTEND;TZID=Europe/Madrid:20190426T213000
DTSTAMP:20260420T125230
CREATED:20190612T104615Z
LAST-MODIFIED:20190612T162255Z
UID:94-1556308800-1556314200@www.bellavistasocialclub.es
SUMMARY:Historia del Jazz IV
DESCRIPTION:Hoy Concierto en directo titulado Jazz Vocal\, que recoge el tema visto en el vídeo anterior con el Grupo de Vicky Vega Cuartet
URL:https://www.bellavistasocialclub.es/inicio/historia-del-jazz-iv/
LOCATION:Bellavista Social Club\, Calle Herrera\, Centros Comerciales Local 17 Bellavista\, Aljaraque\, Huelva\, 21122\, España
CATEGORIES:Jazz- Soul y Blues
ATTACH;FMTTYPE=image/jpeg:https://www.bellavistasocialclub.es/wp-content/uploads/2019/06/concierto-vicky-vega-en-bsc.jpeg
ORGANIZER;CN="Bellavista%20Social%20Club":MAILTO:bellavistacs2017@gmail.com
END:VEVENT
BEGIN:VEVENT
DTSTART;TZID=Europe/Madrid:20190423T193000
DTEND;TZID=Europe/Madrid:20190423T230000
DTSTAMP:20260420T125230
CREATED:20190615T154641Z
LAST-MODIFIED:20190615T160337Z
UID:198-1556047800-1556060400@www.bellavistasocialclub.es
SUMMARY:Lectura "Platero y Yo"
DESCRIPTION:En Bellavista Social Club\, celebración del día Mundial del Libro con la lecturas de todos los que estén interesado\, del libro “Platero y Yo” de Juan Ramón Jimenez.
URL:https://www.bellavistasocialclub.es/inicio/lectura-platero-y-yo/
LOCATION:Bellavista Social Club\, Calle Herrera\, Centros Comerciales Local 17 Bellavista\, Aljaraque\, Huelva\, 21122\, España
CATEGORIES:Lecturas Día del Libro
ATTACH;FMTTYPE=image/jpeg:https://www.bellavistasocialclub.es/wp-content/uploads/2019/06/Dia-Mundial-del-Libro.-Platero-y-Yo.jpg
ORGANIZER;CN="Bellavista%20Social%20Club":MAILTO:bellavistacs2017@gmail.com
END:VEVENT
BEGIN:VEVENT
DTSTART;TZID=Europe/Madrid:20190412T203000
DTEND;TZID=Europe/Madrid:20190412T220000
DTSTAMP:20260420T125230
CREATED:20190612T104340Z
LAST-MODIFIED:20190612T104340Z
UID:92-1555101000-1555106400@www.bellavistasocialclub.es
SUMMARY:Historia del Jazz III
DESCRIPTION:Emisión del vídeo La Historia del Jazz. Swing
URL:https://www.bellavistasocialclub.es/inicio/historia-del-jazz-iii/
LOCATION:Bellavista Social Club\, Calle Herrera\, Centros Comerciales Local 17 Bellavista\, Aljaraque\, Huelva\, 21122\, España
CATEGORIES:Jazz- Soul y Blues
ATTACH;FMTTYPE=image/jpeg:https://www.bellavistasocialclub.es/wp-content/uploads/2019/06/historia-del-jazz-en-bellavista-socail-club.jpg
ORGANIZER;CN="Bellavista%20Social%20Club":MAILTO:bellavistacs2017@gmail.com
END:VEVENT
BEGIN:VEVENT
DTSTART;TZID=Europe/Madrid:20190401T193000
DTEND;TZID=Europe/Madrid:20190415T193000
DTSTAMP:20260420T125230
CREATED:20190612T173433Z
LAST-MODIFIED:20190829T113534Z
UID:112-1554147000-1555356600@www.bellavistasocialclub.es
SUMMARY:Oleos de Carmen Gomez
DESCRIPTION:Exposición de óleos “Dominó de Recuerdos” de  Carmen Gomez Mora.
URL:https://www.bellavistasocialclub.es/inicio/oleos-de-carmen-gomez/
LOCATION:Bellavista Social Club\, Calle Herrera\, Centros Comerciales Local 17 Bellavista\, Aljaraque\, Huelva\, 21122\, España
CATEGORIES:Pintura
ATTACH;FMTTYPE=image/jpeg:https://www.bellavistasocialclub.es/wp-content/uploads/2019/06/exposicion-oleos-en-bellavista-social-club.jpeg
ORGANIZER;CN="Bellavista%20Social%20Club":MAILTO:bellavistacs2017@gmail.com
END:VEVENT
BEGIN:VEVENT
DTSTART;TZID=Europe/Madrid:20190322T193000
DTEND;TZID=Europe/Madrid:20190322T210000
DTSTAMP:20260420T125230
CREATED:20190612T104119Z
LAST-MODIFIED:20190614T104802Z
UID:90-1553283000-1553288400@www.bellavistasocialclub.es
SUMMARY:Historia del Jazz II
DESCRIPTION:Concierto del grupo de Jazz dirigido por el Trombonista Israel Lino Odiel Jazz Band\,  como continuación al vídeo de la semana anterior. Hoy Concierto Dixieland
URL:https://www.bellavistasocialclub.es/inicio/historia-del-jazz-ii/
LOCATION:Bellavista Social Club\, Calle Herrera\, Centros Comerciales Local 17 Bellavista\, Aljaraque\, Huelva\, 21122\, España
CATEGORIES:Jazz- Soul y Blues
ATTACH;FMTTYPE=image/jpeg:https://www.bellavistasocialclub.es/wp-content/uploads/2019/06/la-odiel-jazz-band-en-bsc.jpeg
ORGANIZER;CN="Bellavista%20Social%20Club":MAILTO:bellavistacs2017@gmail.com
END:VEVENT
BEGIN:VEVENT
DTSTART;TZID=Europe/Madrid:20190315T183000
DTEND;TZID=Europe/Madrid:20190315T210000
DTSTAMP:20260420T125230
CREATED:20190612T103802Z
LAST-MODIFIED:20190612T103802Z
UID:87-1552674600-1552683600@www.bellavistasocialclub.es
SUMMARY:Historia del Jazz I
DESCRIPTION:Alternando vídeos y conciertos en directo\, Israel Lino nos trae a Bellavista social Club\, Historia del Jazz. GUMBO\,  el primer vídeo.
URL:https://www.bellavistasocialclub.es/inicio/historia-del-jazz-i/
LOCATION:Bellavista Social Club\, Calle Herrera\, Centros Comerciales Local 17 Bellavista\, Aljaraque\, Huelva\, 21122\, España
CATEGORIES:Jazz- Soul y Blues
ATTACH;FMTTYPE=image/jpeg:https://www.bellavistasocialclub.es/wp-content/uploads/2019/06/historia-del-jazz-en-bellavista-socail-club.jpg
ORGANIZER;CN="Bellavista%20Social%20Club":MAILTO:bellavistacs2017@gmail.com
END:VEVENT
BEGIN:VEVENT
DTSTART;TZID=Europe/Madrid:20190315T160000
DTEND;TZID=Europe/Madrid:20190316T193000
DTSTAMP:20260420T125230
CREATED:20190613T091852Z
LAST-MODIFIED:20190613T091923Z
UID:133-1552665600-1552764600@www.bellavistasocialclub.es
SUMMARY:Torneo Padel " I Aniversario"
DESCRIPTION:BELLAVISTA SOCIAL CLUB celebra su primer aniversario con un TORNEO DE PADEL
URL:https://www.bellavistasocialclub.es/inicio/torneo-padel-i-aniversario/
LOCATION:Bellavista Social Club\, Calle Herrera\, Centros Comerciales Local 17 Bellavista\, Aljaraque\, Huelva\, 21122\, España
CATEGORIES:Padel
ATTACH;FMTTYPE=image/jpeg:https://www.bellavistasocialclub.es/wp-content/uploads/2019/06/torneo-de-padel-en-bellavista-social-club.jpg
ORGANIZER;CN="Bellavista%20Social%20Club":MAILTO:bellavistacs2017@gmail.com
END:VEVENT
BEGIN:VEVENT
DTSTART;TZID=Europe/Madrid:20190222T190000
DTEND;TZID=Europe/Madrid:20190222T200000
DTSTAMP:20260420T125230
CREATED:20190612T160607Z
LAST-MODIFIED:20190614T172240Z
UID:107-1550862000-1550865600@www.bellavistasocialclub.es
SUMMARY:Exposición Clara Soto y Sara Lopez
DESCRIPTION:Exposición fotografías titulada “EL LADO OSCURO“. La presentación será amenizada por Ito Soto y Francisco Lopez de Jazz Menú.
URL:https://www.bellavistasocialclub.es/inicio/exposicion-clara-soto-y-sara-lopez/
LOCATION:Bellavista Social Club\, Calle Herrera\, Centros Comerciales Local 17 Bellavista\, Aljaraque\, Huelva\, 21122\, España
CATEGORIES:Fotografía
ATTACH;FMTTYPE=image/jpeg:https://www.bellavistasocialclub.es/wp-content/uploads/2019/06/exposicion-el-lado-oscuro.jpg
ORGANIZER;CN="Bellavista%20Social%20Club":MAILTO:bellavistacs2017@gmail.com
END:VEVENT
BEGIN:VEVENT
DTSTART;TZID=Europe/Madrid:20190214T180000
DTEND;TZID=Europe/Madrid:20190214T180000
DTSTAMP:20260420T125230
CREATED:20190615T130745Z
LAST-MODIFIED:20251105T174927Z
UID:182-1550167200-1550167200@www.bellavistasocialclub.es
SUMMARY:Libro de Rosario Membrives Moreno "LAS DOS SIRENAS" presentado por el escritor Angel Alberto Nuñez
DESCRIPTION:“LAS DOS SIRENAS” es el titulo de este escritor Onubense que será presenta hoy en Bellavista Social Club. El acto tendrá un acompañamiento musical a cargo del pianista Mariano Alda.
URL:https://www.bellavistasocialclub.es/inicio/libro-de-angel-alberto-nunez/
LOCATION:Bellavista Social Club\, Calle Herrera\, Centros Comerciales Local 17 Bellavista\, Aljaraque\, Huelva\, 21122\, España
CATEGORIES:Presentación Libros
ATTACH;FMTTYPE=image/jpeg:https://www.bellavistasocialclub.es/wp-content/uploads/2019/06/Novelalas-dos-sirenas-en-BSC.jpg
ORGANIZER;CN="Bellavista%20Social%20Club":MAILTO:bellavistacs2017@gmail.com
END:VEVENT
BEGIN:VEVENT
DTSTART;TZID=Europe/Madrid:20181231T233000
DTEND;TZID=Europe/Madrid:20190101T050000
DTSTAMP:20260420T125230
CREATED:20190612T095229Z
LAST-MODIFIED:20190612T095242Z
UID:80-1546299000-1546318800@www.bellavistasocialclub.es
SUMMARY:Tributo a la Música - Javier
DESCRIPTION:Este año estrenamos en nuestro local la fiesta de año nuevo que será amenizada por Francisco Javier\, vecino y socio del Club. Javier nos trae TRIBUTO A LA MÚSICA de los 60 a los 90
URL:https://www.bellavistasocialclub.es/inicio/tributo-a-la-musica-fco-javier/
LOCATION:Bellavista Social Club\, Calle Herrera\, Centros Comerciales Local 17 Bellavista\, Aljaraque\, Huelva\, 21122\, España
CATEGORIES:Baladas
ATTACH;FMTTYPE=image/jpeg:https://www.bellavistasocialclub.es/wp-content/uploads/2019/06/javier-tributo-a-la-musica.jpg
ORGANIZER;CN="Bellavista%20Social%20Club":MAILTO:bellavistacs2017@gmail.com
END:VEVENT
BEGIN:VEVENT
DTSTART;TZID=Europe/Madrid:20181228T210000
DTEND;TZID=Europe/Madrid:20190115T160000
DTSTAMP:20260420T125231
CREATED:20190615T125915Z
LAST-MODIFIED:20190615T125915Z
UID:69-1546030800-1547568000@www.bellavistasocialclub.es
SUMMARY:Acuarelas de Federico Perez
DESCRIPTION:El artista Federico Perez\, conocido como “Fede”  expone en la sede de Bellavista social Club una exposición de cuadros muy originales\, de nuestra tierra. \n 
URL:https://www.bellavistasocialclub.es/inicio/acuarelas-de-federico-perez/
LOCATION:Bellavista Social Club\, Calle Herrera\, Centros Comerciales Local 17 Bellavista\, Aljaraque\, Huelva\, 21122\, España
CATEGORIES:Pintura
ATTACH;FMTTYPE=image/jpeg:https://www.bellavistasocialclub.es/wp-content/uploads/2019/06/exposición-federico-perez.jpg
ORGANIZER;CN="Bellavista%20Social%20Club":MAILTO:bellavistacs2017@gmail.com
END:VEVENT
BEGIN:VEVENT
DTSTART;TZID=Europe/Madrid:20181221T190000
DTEND;TZID=Europe/Madrid:20181221T223000
DTSTAMP:20260420T125231
CREATED:20190615T131513Z
LAST-MODIFIED:20190615T131513Z
UID:186-1545418800-1545431400@www.bellavistasocialclub.es
SUMMARY:Zambomba Flamenca
DESCRIPTION:Los Coros: Aire del Camino\, Hermandad de Emigrantes\, Sendero y Guardia Civil de Huelva y Grupos Grana y Oro\, participan en esta Zambomba 2018.
URL:https://www.bellavistasocialclub.es/inicio/zambomba-flamenca/
LOCATION:Bellavista Social Club\, Calle Herrera\, Centros Comerciales Local 17 Bellavista\, Aljaraque\, Huelva\, 21122\, España
CATEGORIES:Zambomba
ATTACH;FMTTYPE=image/jpeg:https://www.bellavistasocialclub.es/wp-content/uploads/2019/06/Zambomba-Flamenca-en-Bellavista-Social-Club.jpg
ORGANIZER;CN="Bellavista%20Social%20Club":MAILTO:bellavistacs2017@gmail.com
END:VEVENT
END:VCALENDAR