BEGIN:VCALENDAR
VERSION:2.0
PRODID:-//BELLAVISTA SOCIAL CLUB - ECPv5.16.3.1//NONSGML v1.0//EN
CALSCALE:GREGORIAN
METHOD:PUBLISH
X-WR-CALNAME:BELLAVISTA SOCIAL CLUB
X-ORIGINAL-URL:https://www.bellavistasocialclub.es
X-WR-CALDESC:Eventos para BELLAVISTA SOCIAL CLUB
REFRESH-INTERVAL;VALUE=DURATION:PT1H
X-Robots-Tag:noindex
X-PUBLISHED-TTL:PT1H
BEGIN:VTIMEZONE
TZID:Europe/Madrid
BEGIN:DAYLIGHT
TZOFFSETFROM:+0100
TZOFFSETTO:+0200
TZNAME:CEST
DTSTART:20180325T010000
END:DAYLIGHT
BEGIN:STANDARD
TZOFFSETFROM:+0200
TZOFFSETTO:+0100
TZNAME:CET
DTSTART:20181028T010000
END:STANDARD
END:VTIMEZONE
BEGIN:VEVENT
DTSTART;TZID=Europe/Madrid:20180915T220000
DTEND;TZID=Europe/Madrid:20180915T233000
DTSTAMP:20260420T190134
CREATED:20190615T153708Z
LAST-MODIFIED:20190615T153708Z
UID:192-1537048800-1537054200@www.bellavistasocialclub.es
SUMMARY:Noche de Baladas
DESCRIPTION:Francisco Javier nos trae de nuevo Baladas de los 60 a los 90 en “TRIBUTO A LA MÚSICA“. Bellavista Social Club
URL:https://www.bellavistasocialclub.es/inicio/noche-de-baladas/
LOCATION:Bellavista Social Club\, Calle Herrera\, Centros Comerciales Local 17 Bellavista\, Aljaraque\, Huelva\, 21122\, España
CATEGORIES:Baladas
ATTACH;FMTTYPE=image/jpeg:https://www.bellavistasocialclub.es/wp-content/uploads/2019/06/Tributo-a-la-Muscia-Baladas.jpg
ORGANIZER;CN="Bellavista%20Social%20Club":MAILTO:bellavistacs2017@gmail.com
END:VEVENT
BEGIN:VEVENT
DTSTART;TZID=Europe/Madrid:20180914T190000
DTEND;TZID=Europe/Madrid:20181007T190000
DTSTAMP:20260420T190134
CREATED:20190616T111303Z
LAST-MODIFIED:20190829T113819Z
UID:256-1536951600-1538938800@www.bellavistasocialclub.es
SUMMARY:Exposición "Taller de Bellavista"
DESCRIPTION:Los alumnos de pintura del “Taller de Bellavista“\, exponen en Bellavista Social Club
URL:https://www.bellavistasocialclub.es/inicio/exposicion-taller-de-bellavista/
LOCATION:Bellavista Social Club\, Calle Herrera\, Centros Comerciales Local 17 Bellavista\, Aljaraque\, Huelva\, 21122\, España
CATEGORIES:Pintura
ORGANIZER;CN="Bellavista%20Social%20Club":MAILTO:bellavistacs2017@gmail.com
END:VEVENT
BEGIN:VEVENT
DTSTART;TZID=Europe/Madrid:20180817T210000
DTEND;TZID=Europe/Madrid:20180817T220000
DTSTAMP:20260420T190135
CREATED:20190615T183002Z
LAST-MODIFIED:20190921T102102Z
UID:222-1534539600-1534543200@www.bellavistasocialclub.es
SUMMARY:Libro de Javier Martín y Ana García
DESCRIPTION:Javier Sanchez Duran presenta en Bellavista Social Club\, el libro de poesías escrito por Pedro Javier Martín y Ana García cuyo titulo es “Violines sin música“.
URL:https://www.bellavistasocialclub.es/inicio/libro-de-javier-martin-y-ana-garcia/
LOCATION:Bellavista Social Club\, Calle Herrera\, Centros Comerciales Local 17 Bellavista\, Aljaraque\, Huelva\, 21122\, España
CATEGORIES:Presentación Libros
ATTACH;FMTTYPE=image/jpeg:https://www.bellavistasocialclub.es/wp-content/uploads/2019/06/Violines-Sin-Musica-Poesia-en-BSC.jpeg
ORGANIZER;CN="Bellavista%20Social%20Club":MAILTO:bellavistacs2017@gmail.com
END:VEVENT
BEGIN:VEVENT
DTSTART;TZID=Europe/Madrid:20180815T203000
DTEND;TZID=Europe/Madrid:20180915T203000
DTSTAMP:20260420T190135
CREATED:20190615T182608Z
LAST-MODIFIED:20190615T182625Z
UID:219-1534365000-1537043400@www.bellavistasocialclub.es
SUMMARY:Mi Huelva de Andres Espuelas
DESCRIPTION:Andres Espuela presenta en Bellavista Social Club “MI HUELVA” Edición fascimil
URL:https://www.bellavistasocialclub.es/inicio/mi-huelva-de-andres-espuelas/
LOCATION:Bellavista Social Club\, Calle Herrera\, Centros Comerciales Local 17 Bellavista\, Aljaraque\, Huelva\, 21122\, España
CATEGORIES:EXPOSICIONES
ATTACH;FMTTYPE=image/jpeg:https://www.bellavistasocialclub.es/wp-content/uploads/2019/06/Andres-Espuelas-en-BSC.jpeg
ORGANIZER;CN="Bellavista%20Social%20Club":MAILTO:bellavistacs2017@gmail.com
END:VEVENT
BEGIN:VEVENT
DTSTART;TZID=Europe/Madrid:20180706T230000
DTEND;TZID=Europe/Madrid:20180707T010000
DTSTAMP:20260420T190135
CREATED:20190615T201343Z
LAST-MODIFIED:20190615T201413Z
UID:226-1530918000-1530925200@www.bellavistasocialclub.es
SUMMARY:Concierto Mon Dominguez
DESCRIPTION:Mon Dominguez en concierto\, esta noche en BELLAVISTA SOCIAL CLUB
URL:https://www.bellavistasocialclub.es/inicio/concierto-mon-dominguez/
LOCATION:Bellavista Social Club\, Calle Herrera\, Centros Comerciales Local 17 Bellavista\, Aljaraque\, Huelva\, 21122\, España
CATEGORIES:Rock
ATTACH;FMTTYPE=image/jpeg:https://www.bellavistasocialclub.es/wp-content/uploads/2019/06/Concieto-Mon-Dominguez-en-BSC.jpeg
ORGANIZER;CN="Bellavista%20Social%20Club":MAILTO:bellavistacs2017@gmail.com
END:VEVENT
BEGIN:VEVENT
DTSTART;TZID=Europe/Madrid:20180705T200000
DTEND;TZID=Europe/Madrid:20180805T200000
DTSTAMP:20260420T190135
CREATED:20190614T130534Z
LAST-MODIFIED:20190614T130534Z
UID:157-1530820800-1533499200@www.bellavistasocialclub.es
SUMMARY:Fotografía Estenopeica
DESCRIPTION:Presentación de la Exposición de fotografías “ESTENOPEICA” de Joao Ribeiro y José Ramirez en BELLAVISTA SOCIAL CLUB
URL:https://www.bellavistasocialclub.es/inicio/fotografia-estenopeica/
LOCATION:Bellavista Social Club\, Calle Herrera\, Centros Comerciales Local 17 Bellavista\, Aljaraque\, Huelva\, 21122\, España
CATEGORIES:Fotografía
ATTACH;FMTTYPE=image/jpeg:https://www.bellavistasocialclub.es/wp-content/uploads/2019/06/tavira-po-un-agujero-en-bsc.jpg
ORGANIZER;CN="Bellavista%20Social%20Club":MAILTO:bellavistacs2017@gmail.com
END:VEVENT
BEGIN:VEVENT
DTSTART;TZID=Europe/Madrid:20180629T223000
DTEND;TZID=Europe/Madrid:20180629T233000
DTSTAMP:20260420T190135
CREATED:20190612T095636Z
LAST-MODIFIED:20190612T095636Z
UID:84-1530311400-1530315000@www.bellavistasocialclub.es
SUMMARY:Concierto Verónica Silverio
DESCRIPTION:Junto a las guitarras de Andres Rite y Sebastian Perez\, Verónica Silverio en nuestra sede\, BELLAVISTA SOCIAL CLUB
URL:https://www.bellavistasocialclub.es/inicio/concierto-veronica-silverio/
LOCATION:Bellavista Social Club\, Calle Herrera\, Centros Comerciales Local 17 Bellavista\, Aljaraque\, Huelva\, 21122\, España
CATEGORIES:Flamenco
ATTACH;FMTTYPE=image/jpeg:https://www.bellavistasocialclub.es/wp-content/uploads/2019/06/veronica-silveiro-cante-en-bsc.jpeg
ORGANIZER;CN="Bellavista%20Social%20Club":MAILTO:bellavistacs2017@gmail.com
END:VEVENT
BEGIN:VEVENT
DTSTART;TZID=Europe/Madrid:20180622T210000
DTEND;TZID=Europe/Madrid:20180622T223000
DTSTAMP:20260420T190135
CREATED:20190615T181040Z
LAST-MODIFIED:20190616T111429Z
UID:210-1529701200-1529706600@www.bellavistasocialclub.es
SUMMARY:Acuarelas de Lola Cepeda
DESCRIPTION:Genial Pintora Onubense\, de La Palma\, expone su colección de Acuarelas en Bellavista Social Club
URL:https://www.bellavistasocialclub.es/inicio/acuarelas-de-lola-cepeda/
LOCATION:Bellavista Social Club\, Calle Herrera\, Centros Comerciales Local 17 Bellavista\, Aljaraque\, Huelva\, 21122\, España
CATEGORIES:Pintura
ATTACH;FMTTYPE=image/jpeg:https://www.bellavistasocialclub.es/wp-content/uploads/2019/06/Exposición-Oleos-Lola-Cepeda-en-BSC.jpeg
ORGANIZER;CN="Bellavista%20Social%20Club":MAILTO:bellavistacs2017@gmail.com
END:VEVENT
BEGIN:VEVENT
DTSTART;TZID=Europe/Madrid:20180621T210000
DTEND;TZID=Europe/Madrid:20180621T223000
DTSTAMP:20260420T190135
CREATED:20190615T182231Z
LAST-MODIFIED:20190921T102148Z
UID:216-1529614800-1529620200@www.bellavistasocialclub.es
SUMMARY:Libro de Francisco José Rivero
DESCRIPTION:“Teoría de la Resurrección” lleva por titulo el libro de Francisco Jose Rivero que será presentado José Humia Martín.
URL:https://www.bellavistasocialclub.es/inicio/libro-de-fco-jose-rivero/
LOCATION:Bellavista Social Club\, Calle Herrera\, Centros Comerciales Local 17 Bellavista\, Aljaraque\, Huelva\, 21122\, España
CATEGORIES:Presentación Libros
ATTACH;FMTTYPE=image/jpeg:https://www.bellavistasocialclub.es/wp-content/uploads/2019/06/Teoria-de-la-Resurrección-en-BSC.jpg
ORGANIZER;CN="Bellavista%20Social%20Club":MAILTO:bellavistacs2017@gmail.com
END:VEVENT
BEGIN:VEVENT
DTSTART;TZID=Europe/Madrid:20180614T220000
DTEND;TZID=Europe/Madrid:20180614T233000
DTSTAMP:20260420T190135
CREATED:20190615T202459Z
LAST-MODIFIED:20190615T202459Z
UID:235-1529013600-1529019000@www.bellavistasocialclub.es
SUMMARY:Libro de Paco Jimenez
DESCRIPTION:Paco Jimenes nos presenta su obra “NUEVOS CANTARES” ayudado al cante de de su hijo y a la guitarra Javi Cortés. \n 
URL:https://www.bellavistasocialclub.es/inicio/libro-de-paco-jimenez/
LOCATION:Bellavista Social Club\, Calle Herrera\, Centros Comerciales Local 17 Bellavista\, Aljaraque\, Huelva\, 21122\, España
CATEGORIES:Flamenco
ATTACH;FMTTYPE=image/jpeg:https://www.bellavistasocialclub.es/wp-content/uploads/2019/06/Libro-Nuevos-Cantares-en-BSC.jpeg
ORGANIZER;CN="Bellavista%20Social%20Club":MAILTO:bellavistacs2017@gmail.com
END:VEVENT
BEGIN:VEVENT
DTSTART;TZID=Europe/Madrid:20180608T223000
DTEND;TZID=Europe/Madrid:20180609T010000
DTSTAMP:20260420T190135
CREATED:20190615T180445Z
LAST-MODIFIED:20190615T180445Z
UID:204-1528497000-1528506000@www.bellavistasocialclub.es
SUMMARY:Juanma Teran en BSC
DESCRIPTION:Juanma Teran en Bellavista Social Club. Nos espera una noche de cante y algo de Humor. \n 
URL:https://www.bellavistasocialclub.es/inicio/juanma-teran-en-bsc/
LOCATION:Bellavista Social Club\, Calle Herrera\, Centros Comerciales Local 17 Bellavista\, Aljaraque\, Huelva\, 21122\, España
CATEGORIES:Varios Estilos
ATTACH;FMTTYPE=image/jpeg:https://www.bellavistasocialclub.es/wp-content/uploads/2019/06/Juanma-Teran-en-BSC.jpeg
ORGANIZER;CN="Bellavista%20Social%20Club":MAILTO:bellavistacs2017@gmail.com
END:VEVENT
BEGIN:VEVENT
DTSTART;TZID=Europe/Madrid:20180607T210000
DTEND;TZID=Europe/Madrid:20180607T220000
DTSTAMP:20260420T190135
CREATED:20190615T181510Z
LAST-MODIFIED:20190615T181548Z
UID:213-1528405200-1528408800@www.bellavistasocialclub.es
SUMMARY:Fotografías de Manuel Carvajal
DESCRIPTION:“La Imagen Desnuda”\, negando a Roland Barthes” es el titulo de la exposición de fotografías de Manuel Carvajal en Bellavista social Club
URL:https://www.bellavistasocialclub.es/inicio/fotografias-de-manuel-carvajal/
LOCATION:Bellavista Social Club\, Calle Herrera\, Centros Comerciales Local 17 Bellavista\, Aljaraque\, Huelva\, 21122\, España
CATEGORIES:Fotografía
ATTACH;FMTTYPE=image/jpeg:https://www.bellavistasocialclub.es/wp-content/uploads/2019/06/Fotografias-de-Manuel-Carvajal.jpeg
ORGANIZER;CN="Bellavista%20Social%20Club":MAILTO:bellavistacs2017@gmail.com
END:VEVENT
BEGIN:VEVENT
DTSTART;TZID=Europe/Madrid:20180531T210000
DTEND;TZID=Europe/Madrid:20180531T223000
DTSTAMP:20260420T190135
CREATED:20190615T180108Z
LAST-MODIFIED:20190921T102221Z
UID:201-1527800400-1527805800@www.bellavistasocialclub.es
SUMMARY:Versos - Javier Sanchez
DESCRIPTION:El Poeta Onubenses Javier Sanchez Duran nos presente en Bellavista Social Club\, “Versos de un Viajero Confuso“. Presenta Ana Deacracia
URL:https://www.bellavistasocialclub.es/inicio/versos-javier-sanchez/
LOCATION:Bellavista Social Club\, Calle Herrera\, Centros Comerciales Local 17 Bellavista\, Aljaraque\, Huelva\, 21122\, España
CATEGORIES:Presentación Libros
ATTACH;FMTTYPE=image/jpeg:https://www.bellavistasocialclub.es/wp-content/uploads/2019/06/Versos-de-un-viajero-confuso-en-BSC.jpeg
ORGANIZER;CN="Bellavista%20Social%20Club":MAILTO:bellavistacs2017@gmail.com
END:VEVENT
BEGIN:VEVENT
DTSTART;TZID=Europe/Madrid:20180525T213000
DTEND;TZID=Europe/Madrid:20180525T233000
DTSTAMP:20260420T190135
CREATED:20190614T125846Z
LAST-MODIFIED:20190614T125846Z
UID:154-1527283800-1527291000@www.bellavistasocialclub.es
SUMMARY:Tributo a la Música con Fco Javier
DESCRIPTION:Tributo a la música de los años 60-70-80-90 . Baladas que te llevaran a momentos inolvidables. En BELLAVISTA SOCIAL CLUB de Aljaraque
URL:https://www.bellavistasocialclub.es/inicio/tributo-a-la-musica-con-fco-javier/
LOCATION:Bellavista Social Club\, Calle Herrera\, Centros Comerciales Local 17 Bellavista\, Aljaraque\, Huelva\, 21122\, España
CATEGORIES:Baladas
ATTACH;FMTTYPE=image/jpeg:https://www.bellavistasocialclub.es/wp-content/uploads/2019/06/tributo-a-la-musica-con-javier.jpg
ORGANIZER;CN="Bellavista%20Social%20Club":MAILTO:bellavistacs2017@gmail.com
END:VEVENT
BEGIN:VEVENT
DTSTART;TZID=Europe/Madrid:20180517T210000
DTEND;TZID=Europe/Madrid:20180517T223000
DTSTAMP:20260420T190135
CREATED:20190613T092654Z
LAST-MODIFIED:20190921T102325Z
UID:136-1526590800-1526596200@www.bellavistasocialclub.es
SUMMARY:Novela José Martín Gomez
DESCRIPTION:El escritor Onubense y vecino Pepe Martín nos presenta su nueva novela ” TENGO LA MEMORIA LLENA DE MUERTOS“
URL:https://www.bellavistasocialclub.es/inicio/novela-jose-martin-gomez/
LOCATION:Bellavista Social Club\, Calle Herrera\, Centros Comerciales Local 17 Bellavista\, Aljaraque\, Huelva\, 21122\, España
CATEGORIES:Presentación Libros
ATTACH;FMTTYPE=image/jpeg:https://www.bellavistasocialclub.es/wp-content/uploads/2019/06/libro-de-jose-martin-gomez.jpg
ORGANIZER;CN="Bellavista%20Social%20Club":MAILTO:bellavistacs2017@gmail.com
END:VEVENT
BEGIN:VEVENT
DTSTART;TZID=Europe/Madrid:20180511T103000
DTEND;TZID=Europe/Madrid:20180512T020000
DTSTAMP:20260420T190135
CREATED:20190613T085849Z
LAST-MODIFIED:20190613T085849Z
UID:122-1526034600-1526090400@www.bellavistasocialclub.es
SUMMARY:Vicky Vega & Michel Coipel
DESCRIPTION:Concierto de Jazz a cargo de la artista Vicky Vega acompañado de Michel Coipel
URL:https://www.bellavistasocialclub.es/inicio/vicky-vega-michel-coipel/
LOCATION:Bellavista Social Club\, Calle Herrera\, Centros Comerciales Local 17 Bellavista\, Aljaraque\, Huelva\, 21122\, España
CATEGORIES:Jazz- Soul y Blues
ATTACH;FMTTYPE=image/jpeg:https://www.bellavistasocialclub.es/wp-content/uploads/2019/06/concierto-vicky-vega-y-michel.jpg
ORGANIZER;CN="Bellavista%20Social%20Club":MAILTO:bellavistacs2017@gmail.com
END:VEVENT
BEGIN:VEVENT
DTSTART;TZID=Europe/Madrid:20180510T200000
DTEND;TZID=Europe/Madrid:20180524T200000
DTSTAMP:20260420T190135
CREATED:20190611T181015Z
LAST-MODIFIED:20190612T105402Z
UID:72-1525982400-1527192000@www.bellavistasocialclub.es
SUMMARY:Exposición Clara Carrasco
DESCRIPTION:La Joven fotógrafa onubense\, Clara Carrasco nos presenta su primera obra\, una colección de imágenes de nuestra tierra plasmadas en sus instantáneas. Exposición en el Bellavista Social Club de Bellavista.
URL:https://www.bellavistasocialclub.es/inicio/exposicion-clara-carrasco/
LOCATION:Bellavista Social Club\, Calle Herrera\, Centros Comerciales Local 17 Bellavista\, Aljaraque\, Huelva\, 21122\, España
CATEGORIES:Fotografía
ATTACH;FMTTYPE=image/jpeg:https://www.bellavistasocialclub.es/wp-content/uploads/2019/06/clara-carrasco-fotografa-onubense.jpeg
ORGANIZER;CN="Bellavista%20Social%20Club":MAILTO:bellavistacs2017@gmail.com
END:VEVENT
BEGIN:VEVENT
DTSTART;TZID=Europe/Madrid:20180503T210000
DTEND;TZID=Europe/Madrid:20180503T223000
DTSTAMP:20260420T190135
CREATED:20190611T173603Z
LAST-MODIFIED:20190611T173603Z
UID:50-1525381200-1525386600@www.bellavistasocialclub.es
SUMMARY:Conferencia de Luis de Vega
DESCRIPTION:Luis de Vega\,  fotógrafo y periodista nos presenta su conferencia-proyección\, “LA FRONTERA DÉBIL”  en la sede de nuestra Asociación.  Reflexiones de un reportero en las rutas de la emigración hacia Europa
URL:https://www.bellavistasocialclub.es/inicio/conferencia-de-luis-de-vega/
LOCATION:Bellavista Social Club\, Calle Herrera\, Centros Comerciales Local 17 Bellavista\, Aljaraque\, Huelva\, 21122\, España
CATEGORIES:Foto-periodismo
ATTACH;FMTTYPE=image/jpeg:https://www.bellavistasocialclub.es/wp-content/uploads/2019/06/Luis-de-Vega.jpg
ORGANIZER;CN="Bellavista%20Social%20Club":MAILTO:bellavistacs2017@gmail.com
END:VEVENT
BEGIN:VEVENT
DTSTART;TZID=Europe/Madrid:20180427T220000
DTEND;TZID=Europe/Madrid:20180427T233000
DTSTAMP:20260420T190135
CREATED:20190616T075503Z
LAST-MODIFIED:20190616T075503Z
UID:238-1524866400-1524871800@www.bellavistasocialclub.es
SUMMARY:Noche de Jazz
DESCRIPTION:Noche de Jazz con la actuación de Sara Santofimia y José e.l. en Bellavista Social Club
URL:https://www.bellavistasocialclub.es/inicio/noche-de-jazz/
LOCATION:Bellavista Social Club\, Calle Herrera\, Centros Comerciales Local 17 Bellavista\, Aljaraque\, Huelva\, 21122\, España
CATEGORIES:Jazz- Soul y Blues
ATTACH;FMTTYPE=image/jpeg:https://www.bellavistasocialclub.es/wp-content/uploads/2019/06/Noche-de-Jazz-en-BSC.jpeg
ORGANIZER;CN="Bellavista%20Social%20Club":MAILTO:bellavistacs2017@gmail.com
END:VEVENT
BEGIN:VEVENT
DTSTART;TZID=Europe/Madrid:20180420T210000
DTEND;TZID=Europe/Madrid:20180420T230000
DTSTAMP:20260420T190135
CREATED:20190613T090441Z
LAST-MODIFIED:20190613T090441Z
UID:126-1524258000-1524265200@www.bellavistasocialclub.es
SUMMARY:Sara Santofimia & Jose e.l.
DESCRIPTION:Concierto de Soul\, Blues y Jazz con Sara Santofimia & Jose en BELLAVISTA SOCIAL CLUB
URL:https://www.bellavistasocialclub.es/inicio/sara-santofimia-jose-e-l/
LOCATION:Bellavista Social Club\, Calle Herrera\, Centros Comerciales Local 17 Bellavista\, Aljaraque\, Huelva\, 21122\, España
CATEGORIES:Jazz- Soul y Blues
ATTACH;FMTTYPE=image/jpeg:https://www.bellavistasocialclub.es/wp-content/uploads/2019/06/bellavista-socia-club-actuaciones.jpg
ORGANIZER;CN="Bellavista%20Social%20Club":MAILTO:bellavistacs2017@gmail.com
END:VEVENT
BEGIN:VEVENT
DTSTART;TZID=Europe/Madrid:20180413T223000
DTEND;TZID=Europe/Madrid:20180414T010000
DTSTAMP:20260420T190135
CREATED:20190614T170628Z
LAST-MODIFIED:20190614T170636Z
UID:169-1523658600-1523667600@www.bellavistasocialclub.es
SUMMARY:Ni Chicha ni Limoná
DESCRIPTION:En Bellavista Social Club presentamos al grupo Onubense\, “NI CHICA NI LIMONA”
URL:https://www.bellavistasocialclub.es/inicio/ni-chicha-ni-limona/
LOCATION:Bellavista Social Club\, Calle Herrera\, Centros Comerciales Local 17 Bellavista\, Aljaraque\, Huelva\, 21122\, España
CATEGORIES:Otros
ATTACH;FMTTYPE=image/jpeg:https://www.bellavistasocialclub.es/wp-content/uploads/2019/06/ni-chicha-ni-limona-en-bsc.jpg
ORGANIZER;CN="Bellavista%20Social%20Club":MAILTO:bellavistacs2017@gmail.com
END:VEVENT
BEGIN:VEVENT
DTSTART;TZID=Europe/Madrid:20180412T203000
DTEND;TZID=Europe/Madrid:20180412T220000
DTSTAMP:20260420T190135
CREATED:20190615T180737Z
LAST-MODIFIED:20190921T102305Z
UID:207-1523565000-1523570400@www.bellavistasocialclub.es
SUMMARY:Libro Cristina Font
DESCRIPTION:La escritora nos trae su ultima novela\, “Oculta tras su mirada” será esta tarde en Bellavista Social Club
URL:https://www.bellavistasocialclub.es/inicio/libro-cristina-font/
LOCATION:Bellavista Social Club\, Calle Herrera\, Centros Comerciales Local 17 Bellavista\, Aljaraque\, Huelva\, 21122\, España
CATEGORIES:Presentación Libros
ATTACH;FMTTYPE=image/jpeg:https://www.bellavistasocialclub.es/wp-content/uploads/2019/06/Novela-Oculta-Tras-su-Mirada-en-BSC.jpeg
ORGANIZER;CN="Bellavista%20Social%20Club":MAILTO:bellavistacs2017@gmail.com
END:VEVENT
BEGIN:VEVENT
DTSTART;TZID=Europe/Madrid:20180323T160000
DTEND;TZID=Europe/Madrid:20180323T160000
DTSTAMP:20260420T190135
CREATED:20190614T153335Z
LAST-MODIFIED:20190614T153335Z
UID:162-1521820800-1521820800@www.bellavistasocialclub.es
SUMMARY:Presentación Curso de Ingles
DESCRIPTION:La Academia de Ingles de Kieran O¡Reilly presenta en la sede de BELLAVISTA SOCIAL CLUB\, el curso de Verano en Escocia.
URL:https://www.bellavistasocialclub.es/inicio/presentacion-curso-de-ingles/
LOCATION:Bellavista Social Club\, Calle Herrera\, Centros Comerciales Local 17 Bellavista\, Aljaraque\, Huelva\, 21122\, España
CATEGORIES:Cursos de Verano
ATTACH;FMTTYPE=image/jpeg:https://www.bellavistasocialclub.es/wp-content/uploads/2019/06/curso-en-irlanda-bellavista-social-club.jpg
ORGANIZER;CN="Academy%20Ingles%20%28Kieran%20O%27Reilly":MAILTO:academyingles@gmail.com
END:VEVENT
BEGIN:VEVENT
DTSTART;TZID=Europe/Madrid:20180315T170000
DTEND;TZID=Europe/Madrid:20180315T183000
DTSTAMP:20260420T190135
CREATED:20190613T093707Z
LAST-MODIFIED:20190615T130935Z
UID:139-1521133200-1521138600@www.bellavistasocialclub.es
SUMMARY:Taller de Poesía en Clave de Mujer
DESCRIPTION:Primer taller de “POESÍA EN CLAVE DE MUJER” en Bellavista Social Club. Presenta el Acto Inmaculada Camacho
URL:https://www.bellavistasocialclub.es/inicio/taller-de-poesia-en-clave-de-mujer/
LOCATION:Bellavista Social Club\, Calle Herrera\, Centros Comerciales Local 17 Bellavista\, Aljaraque\, Huelva\, 21122\, España
CATEGORIES:Taller de Poesía
ATTACH;FMTTYPE=image/jpeg:https://www.bellavistasocialclub.es/wp-content/uploads/2019/06/Poesia-en-Clave-de-Mujer-taller-de-poesia.jpg
ORGANIZER;CN="Bellavista%20Social%20Club":MAILTO:bellavistacs2017@gmail.com
END:VEVENT
BEGIN:VEVENT
DTSTART;TZID=Europe/Madrid:20180301T193000
DTEND;TZID=Europe/Madrid:20180301T210000
DTSTAMP:20260420T190135
CREATED:20190614T104416Z
LAST-MODIFIED:20190921T102315Z
UID:142-1519932600-1519938000@www.bellavistasocialclub.es
SUMMARY:Libro Consuelo Dominguez
DESCRIPTION:La profesora de la Universidad de Huelva y escritora\, presenta en Bellavista Social Club\, su libro que lleva por titulo ” IN LOVING MEMORY“. El acto será presentado por el periodista RAFAEL TERAN
URL:https://www.bellavistasocialclub.es/inicio/libro-consuelo-dominguez/
LOCATION:Bellavista Social Club\, Calle Herrera\, Centros Comerciales Local 17 Bellavista\, Aljaraque\, Huelva\, 21122\, España
CATEGORIES:Presentación Libros
ATTACH;FMTTYPE=image/jpeg:https://www.bellavistasocialclub.es/wp-content/uploads/2019/06/libro-consuelo-dominguez-domienguez.jpg
ORGANIZER;CN="Bellavista%20Social%20Club":MAILTO:bellavistacs2017@gmail.com
END:VEVENT
END:VCALENDAR